BEGIN:VCALENDAR
VERSION:2.0
PRODID:-//L&#039;observable - ECPv6.15.13//NONSGML v1.0//EN
CALSCALE:GREGORIAN
METHOD:PUBLISH
X-WR-CALNAME:L&#039;observable
X-ORIGINAL-URL:https://lobservable.com
X-WR-CALDESC:Évènements pour L&#039;observable
REFRESH-INTERVAL;VALUE=DURATION:PT1H
X-Robots-Tag:noindex
X-PUBLISHED-TTL:PT1H
BEGIN:VTIMEZONE
TZID:Europe/Paris
BEGIN:DAYLIGHT
TZOFFSETFROM:+0100
TZOFFSETTO:+0200
TZNAME:CEST
DTSTART:20250330T010000
END:DAYLIGHT
BEGIN:STANDARD
TZOFFSETFROM:+0200
TZOFFSETTO:+0100
TZNAME:CET
DTSTART:20251026T010000
END:STANDARD
BEGIN:DAYLIGHT
TZOFFSETFROM:+0100
TZOFFSETTO:+0200
TZNAME:CEST
DTSTART:20260329T010000
END:DAYLIGHT
BEGIN:STANDARD
TZOFFSETFROM:+0200
TZOFFSETTO:+0100
TZNAME:CET
DTSTART:20261025T010000
END:STANDARD
BEGIN:DAYLIGHT
TZOFFSETFROM:+0100
TZOFFSETTO:+0200
TZNAME:CEST
DTSTART:20270328T010000
END:DAYLIGHT
BEGIN:STANDARD
TZOFFSETFROM:+0200
TZOFFSETTO:+0100
TZNAME:CET
DTSTART:20271031T010000
END:STANDARD
END:VTIMEZONE
BEGIN:VEVENT
DTSTART;VALUE=DATE:20260421
DTEND;VALUE=DATE:20260422
DTSTAMP:20260420T160947
CREATED:20250520T234920Z
LAST-MODIFIED:20260227T185640Z
UID:4016-1776729600-1776815999@lobservable.com
SUMMARY:MONTMORILLON
DESCRIPTION:TOURNÉE JMF
URL:https://lobservable.com/event/limoges/
LOCATION:MONTMORILLON\, 86\, 86
END:VEVENT
BEGIN:VEVENT
DTSTART;VALUE=DATE:20260422
DTEND;VALUE=DATE:20260423
DTSTAMP:20260420T160947
CREATED:20260227T185844Z
LAST-MODIFIED:20260227T185926Z
UID:4203-1776816000-1776902399@lobservable.com
SUMMARY:LA CRÈCHE 1
DESCRIPTION:TOURNÉE JMF
URL:https://lobservable.com/event/la-creche/
LOCATION:LA CRECHE\, 79\, 79
END:VEVENT
BEGIN:VEVENT
DTSTART;VALUE=DATE:20260423
DTEND;VALUE=DATE:20260424
DTSTAMP:20260420T160947
CREATED:20260227T190007Z
LAST-MODIFIED:20260227T190007Z
UID:4206-1776902400-1776988799@lobservable.com
SUMMARY:LA CRÈCHE 2
DESCRIPTION:TOURNÉE JMF
URL:https://lobservable.com/event/la-creche-2/
LOCATION:LA CRECHE\, 79\, 79
END:VEVENT
BEGIN:VEVENT
DTSTART;VALUE=DATE:20260424
DTEND;VALUE=DATE:20260425
DTSTAMP:20260420T160947
CREATED:20260227T190107Z
LAST-MODIFIED:20260227T190126Z
UID:4208-1776988800-1777075199@lobservable.com
SUMMARY:LA CRÈCHE 3
DESCRIPTION:TOURNÉE JMF
URL:https://lobservable.com/event/la-creche-3/
LOCATION:LA CRECHE\, 79\, 79
END:VEVENT
BEGIN:VEVENT
DTSTART;VALUE=DATE:20260522
DTEND;VALUE=DATE:20260523
DTSTAMP:20260420T160947
CREATED:20250520T235344Z
LAST-MODIFIED:20260227T180725Z
UID:4018-1779408000-1779494399@lobservable.com
SUMMARY:CONCARNEAU
DESCRIPTION:PÔLE CULTUREL – CENTRE DES ARTS – CAC
URL:https://lobservable.com/event/concarneau/
LOCATION:CONCARNEAU\, 29\, 29
END:VEVENT
BEGIN:VEVENT
DTSTART;VALUE=DATE:20260526
DTEND;VALUE=DATE:20260527
DTSTAMP:20260420T160947
CREATED:20260227T184958Z
LAST-MODIFIED:20260227T185220Z
UID:4195-1779753600-1779839999@lobservable.com
SUMMARY:Agglo bocage bressuirais 1
DESCRIPTION:LA PASSERELLE-AGGLO BOCAGE BRESSUIRAIS
URL:https://lobservable.com/event/4195/
LOCATION:MAULEON\, 79\, 79
END:VEVENT
BEGIN:VEVENT
DTSTART;VALUE=DATE:20260528
DTEND;VALUE=DATE:20260529
DTSTAMP:20260420T160947
CREATED:20260227T185313Z
LAST-MODIFIED:20260227T185313Z
UID:4200-1779926400-1780012799@lobservable.com
SUMMARY:AGGLO BOCAGE BRESSUIRAIS - 2
DESCRIPTION:LA GRIOTTE-AGGLO BOCAGE BRESSUIRAIS
URL:https://lobservable.com/event/agglo-bocage-bressuirais-2/
LOCATION:CERIZAY\, 79\, 79
END:VEVENT
BEGIN:VEVENT
DTSTART;VALUE=DATE:20260602
DTEND;VALUE=DATE:20260603
DTSTAMP:20260420T160947
CREATED:20260227T190228Z
LAST-MODIFIED:20260227T190228Z
UID:4210-1780358400-1780444799@lobservable.com
SUMMARY:MARCIAC
DESCRIPTION:TOURNÉE JMF
URL:https://lobservable.com/event/marciac/
LOCATION:MARCIAC\, 32\, 32
END:VEVENT
BEGIN:VEVENT
DTSTART;VALUE=DATE:20260604
DTEND;VALUE=DATE:20260605
DTSTAMP:20260420T160947
CREATED:20260227T190308Z
LAST-MODIFIED:20260227T190308Z
UID:4212-1780531200-1780617599@lobservable.com
SUMMARY:AUCH
DESCRIPTION:TOURNÉE JMF
URL:https://lobservable.com/event/auch/
LOCATION:AUCH\, 32\, 32
END:VEVENT
BEGIN:VEVENT
DTSTART;VALUE=DATE:20260609
DTEND;VALUE=DATE:20260610
DTSTAMP:20260420T160947
CREATED:20260227T190809Z
LAST-MODIFIED:20260227T190809Z
UID:4219-1780963200-1781049599@lobservable.com
SUMMARY:RIORGES
DESCRIPTION:LES MARDIS DU GRAND MARAIS
URL:https://lobservable.com/event/riorges/
LOCATION:RIORGES\, 42\, 42
END:VEVENT
BEGIN:VEVENT
DTSTART;VALUE=DATE:20260612
DTEND;VALUE=DATE:20260613
DTSTAMP:20260420T160947
CREATED:20260227T191240Z
LAST-MODIFIED:20260227T191240Z
UID:4221-1781222400-1781308799@lobservable.com
SUMMARY:MOUTIERS - Coeur de Tarentaise
DESCRIPTION:SALLE MAURICE CALLOC’H – COMMUNAUTE COEUR DE TARENTAISE
URL:https://lobservable.com/event/moutiers-coeur-de-tarentaise/
LOCATION:MOUTIERS\, 73\, 73
END:VEVENT
BEGIN:VEVENT
DTSTART;VALUE=DATE:20260708
DTEND;VALUE=DATE:20260724
DTSTAMP:20260420T160947
CREATED:20260227T191754Z
LAST-MODIFIED:20260227T192045Z
UID:4223-1783468800-1784851199@lobservable.com
SUMMARY:FESTIVAL D'AVIGNON - CDS
DESCRIPTION:LA COUR DU SPECTATEUR – DU 8 AU 23 JUILLET
URL:https://lobservable.com/event/cds/
LOCATION:AVIGNON\, 84\, 84
END:VEVENT
END:VCALENDAR